BEGIN:VCALENDAR
VERSION:2.0
PRODID:-//Preservation Resource Center of New Orleans - ECPv6.15.20//NONSGML v1.0//EN
CALSCALE:GREGORIAN
METHOD:PUBLISH
X-WR-CALNAME:Preservation Resource Center of New Orleans
X-ORIGINAL-URL:https://prcno.org
X-WR-CALDESC:Events for Preservation Resource Center of New Orleans
REFRESH-INTERVAL;VALUE=DURATION:PT1H
X-Robots-Tag:noindex
X-PUBLISHED-TTL:PT1H
BEGIN:VTIMEZONE
TZID:America/Chicago
BEGIN:DAYLIGHT
TZOFFSETFROM:-0600
TZOFFSETTO:-0500
TZNAME:CDT
DTSTART:20240310T080000
END:DAYLIGHT
BEGIN:STANDARD
TZOFFSETFROM:-0500
TZOFFSETTO:-0600
TZNAME:CST
DTSTART:20241103T070000
END:STANDARD
BEGIN:DAYLIGHT
TZOFFSETFROM:-0600
TZOFFSETTO:-0500
TZNAME:CDT
DTSTART:20250309T080000
END:DAYLIGHT
BEGIN:STANDARD
TZOFFSETFROM:-0500
TZOFFSETTO:-0600
TZNAME:CST
DTSTART:20251102T070000
END:STANDARD
BEGIN:DAYLIGHT
TZOFFSETFROM:-0600
TZOFFSETTO:-0500
TZNAME:CDT
DTSTART:20260308T080000
END:DAYLIGHT
BEGIN:STANDARD
TZOFFSETFROM:-0500
TZOFFSETTO:-0600
TZNAME:CST
DTSTART:20261101T070000
END:STANDARD
END:VTIMEZONE
BEGIN:VEVENT
DTSTART;TZID=America/Chicago:20250927T000000
DTEND;TZID=America/Chicago:20251007T235959
DTSTAMP:20260421T011042
CREATED:20241119T193804Z
LAST-MODIFIED:20250716T184225Z
UID:10000085-1758931200-1759881599@prcno.org
SUMMARY:Travel to Sicily with the Preservation Resource Center Fall 2025 (WAITLIST)
DESCRIPTION:Explore Sicily with the PRC\n\n\n\nWe invite you to embark on an immersive 11-day architectural and cultural journey through the heart of Sicily with the Preservation Resource Center of New Orleans. Dive into the island’s rich mosaic of culture led by a dozen local experts on diverse topics as we explore ancient Greek and Roman temples\, opulent Baroque churches\, charming medieval towns\, and contemporary life. \n\n\n\nWander through the captivating streets and palaces of Palermo\, marvel at the Valley of the Temples in Agrigento\, and uncover hidden architectural gems of Siracusa. Immerse yourself in the vibrant local culture with hands-on experiences like a cooking class\, private concerts\, and a visit to a traditional Sicilian puppet maker’s atelier. \n\n\n\nIndulge in delectable Sicilian cuisine during exclusive culinary experiences at local farms and wineries\, savoring authentic flavors and regional specialties. From the slopes of Mount Etna\, to scenic countryside drives\, and the enchanting island of Ortigia\, this expertly curated tour promises an unforgettable adventure that will ignite your five senses and leave you with a deep appreciation for Sicily’s remarkable history\, preservation efforts\, and cultural treasures. \n\n\n\nThe PRC’s fall 2025 Sicily trip is currently SOLD OUT.  Check out our next Sicily trip happening Fall of 2026! \n\n\n\n\nview the Sicily FALL 2026 Trip information\n\n\n\n\nDouble occupancy: $6\,775 (per person)Single occupancy: $8\,175\n\n\n\nPAYMENT SCHEDULE: Non-refundable deposits of $750 are due to Project Por Amor upon signing up to secure a space. Full payment of the final balance is due by June 26th\, 2025. \n\n\n\nSpots will be given on a first-come-first-serve basis\, 15 travelers need to make deposits by May 26th in order for this program to go. All funds will be refunded if the minimum is not reached. We encourage you to sign up while there is still availability. \n\n\n\nNOTE: Airfare is not included. Several flights on major airlines flying to Palermo are available. You can purchase online or through your preferred agent. Project Por Amor will offer guidance on when to book and answer any questions you have. \n\n\n\n\n    \n        \n                            \n                    \n                                                    \n                                \n                                                                    \n                            \n                                                    \n                                \n                                                                    \n                            \n                                                    \n                                \n                                                                    \n                            \n                                                    \n                                \n                                                                    \n                            \n                                                    \n                                \n                                                                    \n                            \n                                                    \n                                \n                                                                    \n                            \n                                                    \n                                \n                                                                    \n                            \n                                                    \n                                \n                                                                    \n                            \n                                            \n                    \n                        \n                            \n                                \n                                    \n                                        \n                                            \n                                        \n                                    \n                                    \n                                                                                    Hotel Politeama \n                                                                                    Welcome dinner at Osteria Ballaro \n                                                                                    Teatro Massimo \n                                                                                    Almond Trees in Bloom at the Valley of Temples near Agrigento\, Sicily \n                                                                                    Catania\, Sicily: Beautiful old town panorama with the cupola of the 18th-century Duomo di Sant’Agata and a turquoise sea framed (in the foreground) by two baroque architectural flourishes. \n                                                                                    Corleone \n                                                                                    Wine experience on Mount Etna with a music performance \n                                                                                    Boat tour with aperitivo at sunset
URL:https://prcno.org/event/travel-to-sicily-with-the-preservation-resource-center-fall-2025/
LOCATION:Sicily\, Sicily\, Italy
CATEGORIES:Travel
ATTACH;FMTTYPE=image/jpeg:https://prcno.org/wp-content/uploads/2024/11/hotel_politeama_gallery_02.jpeg
END:VEVENT
END:VCALENDAR